BEGIN:VCALENDAR
VERSION:2.0
PRODID:-//Schützenverein - Heppenheim 1928 e.V. - ECPv6.15.20//NONSGML v1.0//EN
CALSCALE:GREGORIAN
METHOD:PUBLISH
X-ORIGINAL-URL:https://schuetzenverein-heppenheim.de
X-WR-CALDESC:Veranstaltungen für Schützenverein - Heppenheim 1928 e.V.
REFRESH-INTERVAL;VALUE=DURATION:PT1H
X-Robots-Tag:noindex
X-PUBLISHED-TTL:PT1H
BEGIN:VTIMEZONE
TZID:Europe/Berlin
BEGIN:DAYLIGHT
TZOFFSETFROM:+0100
TZOFFSETTO:+0200
TZNAME:CEST
DTSTART:20220327T010000
END:DAYLIGHT
BEGIN:STANDARD
TZOFFSETFROM:+0200
TZOFFSETTO:+0100
TZNAME:CET
DTSTART:20221030T010000
END:STANDARD
BEGIN:DAYLIGHT
TZOFFSETFROM:+0100
TZOFFSETTO:+0200
TZNAME:CEST
DTSTART:20230326T010000
END:DAYLIGHT
BEGIN:STANDARD
TZOFFSETFROM:+0200
TZOFFSETTO:+0100
TZNAME:CET
DTSTART:20231029T010000
END:STANDARD
BEGIN:DAYLIGHT
TZOFFSETFROM:+0100
TZOFFSETTO:+0200
TZNAME:CEST
DTSTART:20240331T010000
END:DAYLIGHT
BEGIN:STANDARD
TZOFFSETFROM:+0200
TZOFFSETTO:+0100
TZNAME:CET
DTSTART:20241027T010000
END:STANDARD
BEGIN:DAYLIGHT
TZOFFSETFROM:+0100
TZOFFSETTO:+0200
TZNAME:CEST
DTSTART:20250330T010000
END:DAYLIGHT
BEGIN:STANDARD
TZOFFSETFROM:+0200
TZOFFSETTO:+0100
TZNAME:CET
DTSTART:20251026T010000
END:STANDARD
BEGIN:DAYLIGHT
TZOFFSETFROM:+0100
TZOFFSETTO:+0200
TZNAME:CEST
DTSTART:20260329T010000
END:DAYLIGHT
BEGIN:STANDARD
TZOFFSETFROM:+0200
TZOFFSETTO:+0100
TZNAME:CET
DTSTART:20261025T010000
END:STANDARD
BEGIN:DAYLIGHT
TZOFFSETFROM:+0100
TZOFFSETTO:+0200
TZNAME:CEST
DTSTART:20270328T010000
END:DAYLIGHT
BEGIN:STANDARD
TZOFFSETFROM:+0200
TZOFFSETTO:+0100
TZNAME:CET
DTSTART:20271031T010000
END:STANDARD
END:VTIMEZONE
BEGIN:VEVENT
DTSTART;TZID=Europe/Berlin:20260329T100000
DTEND;TZID=Europe/Berlin:20260329T130000
DTSTAMP:20260422T202151
CREATED:20251221T084420Z
LAST-MODIFIED:20251221T084420Z
UID:307-1774778400-1774789200@schuetzenverein-heppenheim.de
SUMMARY:Schützenflohmarkt
DESCRIPTION:
URL:https://schuetzenverein-heppenheim.de/event/schuetzenflohmarkt/
END:VEVENT
BEGIN:VEVENT
DTSTART;TZID=Europe/Berlin:20260327T200000
DTEND;TZID=Europe/Berlin:20260327T220000
DTSTAMP:20260422T202151
CREATED:20251221T084229Z
LAST-MODIFIED:20251221T084229Z
UID:305-1774641600-1774648800@schuetzenverein-heppenheim.de
SUMMARY:Jahreshauptversammlung
DESCRIPTION:
URL:https://schuetzenverein-heppenheim.de/event/jahreshauptversammlung/
END:VEVENT
BEGIN:VEVENT
DTSTART;TZID=Europe/Berlin:20250824T093000
DTEND;TZID=Europe/Berlin:20250824T170000
DTSTAMP:20260422T202151
CREATED:20250812T191144Z
LAST-MODIFIED:20250812T191144Z
UID:300-1756027800-1756054800@schuetzenverein-heppenheim.de
SUMMARY:Schützenflohmarkt 24.08 ab 09:30
DESCRIPTION:
URL:https://schuetzenverein-heppenheim.de/event/schuetzenflohmarkt-24-08-ab-0930/
END:VEVENT
BEGIN:VEVENT
DTSTART;TZID=Europe/Berlin:20250823T130000
DTEND;TZID=Europe/Berlin:20250823T170000
DTSTAMP:20260422T202151
CREATED:20250812T191057Z
LAST-MODIFIED:20250812T191057Z
UID:298-1755954000-1755968400@schuetzenverein-heppenheim.de
SUMMARY:Königsschießen 2025 - Sa 23.08 ab 13Uhr
DESCRIPTION:
URL:https://schuetzenverein-heppenheim.de/event/koenigsschiessen-2025-sa-23-08-ab-13uhr/
END:VEVENT
BEGIN:VEVENT
DTSTART;TZID=Europe/Berlin:20250816T090000
DTEND;TZID=Europe/Berlin:20250816T170000
DTSTAMP:20260422T202151
CREATED:20250812T191210Z
LAST-MODIFIED:20250812T191239Z
UID:302-1755334800-1755363600@schuetzenverein-heppenheim.de
SUMMARY:Arbeitseinsatz 16.08 ab 09:00
DESCRIPTION:
URL:https://schuetzenverein-heppenheim.de/event/arbeitseinsatz-16-08-ab-0900/
END:VEVENT
BEGIN:VEVENT
DTSTART;TZID=Europe/Berlin:20250726T150000
DTEND;TZID=Europe/Berlin:20250726T220000
DTSTAMP:20260422T202151
CREATED:20250720T201425Z
LAST-MODIFIED:20250720T201504Z
UID:294-1753542000-1753567200@schuetzenverein-heppenheim.de
SUMMARY:Sommergrillen 2025 - Sa 26.07 ab 15uhr - Grillen 17Uhr
DESCRIPTION:Sommergrillen 2025 – Sa 16.07 ab 15uhr – Grillen 17Uhr
URL:https://schuetzenverein-heppenheim.de/event/sommergrillen-2025-sa-16-07-ab-15uhr-grillen-17uhr/
END:VEVENT
BEGIN:VEVENT
DTSTART;TZID=Europe/Berlin:20241020T103000
DTEND;TZID=Europe/Berlin:20241020T150000
DTSTAMP:20260422T202151
CREATED:20240909T165833Z
LAST-MODIFIED:20240909T165833Z
UID:268-1729420200-1729436400@schuetzenverein-heppenheim.de
SUMMARY:Weißwurst- und Brezel-Frühstück
DESCRIPTION:Weißwurst- und Brezel-Frühstück am 20.10. ab 10:30. \nAuch hier bitte anmelden.
URL:https://schuetzenverein-heppenheim.de/event/weisswurst-und-brezel-fruehstueck/
END:VEVENT
BEGIN:VEVENT
DTSTART;TZID=Europe/Berlin:20240926T180000
DTEND;TZID=Europe/Berlin:20240926T180000
DTSTAMP:20260422T202151
CREATED:20240909T165735Z
LAST-MODIFIED:20240909T180300Z
UID:266-1727373600-1727373600@schuetzenverein-heppenheim.de
SUMMARY:"Rippchen-Abend"
DESCRIPTION:Rippchen-Abend” am Donnerstag\, den 26.09.: Es gibt Iberico-/ Duroc-Rippchen aus dem French-Rack geschnitten\, auf dem Big Green Egg low & slow zubereitet  mit einem Whisky-Cola-Glaze\, dazu selbstgemachte “Kartoffel-Chips” und Krautsalat. \nPreis pro Person: 12€ \nVerbindliche Anmeldung mit Vorkasse bis zum 22.09.2024
URL:https://schuetzenverein-heppenheim.de/event/rippchen-abend/
END:VEVENT
BEGIN:VEVENT
DTSTART;TZID=Europe/Berlin:20240914T130000
DTEND;TZID=Europe/Berlin:20240914T163000
DTSTAMP:20260422T202151
CREATED:20240909T170000Z
LAST-MODIFIED:20240909T170000Z
UID:270-1726318800-1726331400@schuetzenverein-heppenheim.de
SUMMARY:Königsschießen 2024 - Vereinsintern
DESCRIPTION:Am 14.09.2024 von 13.00 bis 16.30 Uhr im Schützenhaus. \nJeder\, Jede und Jedes kann in Amt und Würde kommen. Wie Immer in den letzten Jahren kann so oft geschossen werden bis der erste wertbare 10er gefallen ist. Am Anfang beschränken wir die Anzahl\, inklusive  Nachkauf auf 3×3 (9) Schuss. Wenn alle die Möglichkeit hatten zu schießen sind weiter Käufe möglich. \nProklamiert zum König / Königin und Ritter kann nur derjenige der auch da ist. \n  \nIm Anschluss bzw. ab ca. 16 Uhr grillen wir. Salate\, Kuchen usw. sind gerne willkommen. 
URL:https://schuetzenverein-heppenheim.de/event/koenigsschiessen-2024-vereinsintern/
END:VEVENT
BEGIN:VEVENT
DTSTART;TZID=Europe/Berlin:20240831T100000
DTEND;TZID=Europe/Berlin:20240831T100000
DTSTAMP:20260422T202151
CREATED:20231125T090115Z
LAST-MODIFIED:20231125T101428Z
UID:257-1725098400-1725098400@schuetzenverein-heppenheim.de
SUMMARY:Königsschießen 2024
DESCRIPTION:
URL:https://schuetzenverein-heppenheim.de/event/koenigsschiessen-2024/
END:VEVENT
BEGIN:VEVENT
DTSTART;TZID=Europe/Berlin:20240706T160000
DTEND;TZID=Europe/Berlin:20240706T160000
DTSTAMP:20260422T202151
CREATED:20231125T090024Z
LAST-MODIFIED:20231125T101344Z
UID:255-1720281600-1720281600@schuetzenverein-heppenheim.de
SUMMARY:Sommerfest 2024
DESCRIPTION:
URL:https://schuetzenverein-heppenheim.de/event/sommerfest-2024/
END:VEVENT
BEGIN:VEVENT
DTSTART;TZID=Europe/Berlin:20240322T200000
DTEND;TZID=Europe/Berlin:20240322T200000
DTSTAMP:20260422T202151
CREATED:20231125T085924Z
LAST-MODIFIED:20231125T101407Z
UID:253-1711137600-1711137600@schuetzenverein-heppenheim.de
SUMMARY:Jahreshauptversammlung 2024
DESCRIPTION:
URL:https://schuetzenverein-heppenheim.de/event/jahreshauptversammlung-2024/
END:VEVENT
BEGIN:VEVENT
DTSTART;TZID=Europe/Berlin:20231203T103000
DTEND;TZID=Europe/Berlin:20231203T103000
DTSTAMP:20260422T202151
CREATED:20231125T085746Z
LAST-MODIFIED:20231125T101304Z
UID:251-1701599400-1701599400@schuetzenverein-heppenheim.de
SUMMARY:Schützenbrunch 2023
DESCRIPTION:Im Vereinsheim\, Details und Anmeldung siehe Ausgang und Email
URL:https://schuetzenverein-heppenheim.de/event/schuetzenbrunch-2023/
END:VEVENT
BEGIN:VEVENT
DTSTART;TZID=Europe/Berlin:20230909T150000
DTEND;TZID=Europe/Berlin:20230909T183000
DTSTAMP:20260422T202151
CREATED:20230629T190918Z
LAST-MODIFIED:20230830T083334Z
UID:242-1694271600-1694284200@schuetzenverein-heppenheim.de
SUMMARY:Königsschießen (intern)
DESCRIPTION:Einladung zum Königsschießen 2023 \n[Nur Intern] \nAm 09.09.2022 von 13.00 bis 16.30 Uhr im Schützenhaus. \nJeder\, Jede und Jedes kann in Amt und Würde kommen. Wie Immer in den letzten Jahre kann so oft geschossen werden bis der erste wertbare 10er gefallen ist. Am Anfang beschränken wir die Anzahl\, inklusive  Nachkauf auf 3×3 (9) Schuss. Wenn alle die Möglichkeit hatten zu schießen sind weiter Käufe möglich. \nProklamiert zum König / Königin und Ritter kann nur derjenige der auch da ist. \n  \nIm Anschluss bzw. ab ca. 16 Uhr grillen wir. Salate\, Kuchen usw. sind gerne willkommen. 
URL:https://schuetzenverein-heppenheim.de/event/koenigsschiessen-intern/
END:VEVENT
BEGIN:VEVENT
DTSTART;TZID=Europe/Berlin:20230715T160000
DTEND;TZID=Europe/Berlin:20230715T200000
DTSTAMP:20260422T202151
CREATED:20230603T120959Z
LAST-MODIFIED:20230629T190443Z
UID:195-1689436800-1689451200@schuetzenverein-heppenheim.de
SUMMARY:Sommerfest
DESCRIPTION:
URL:https://schuetzenverein-heppenheim.de/event/sommerfest/
END:VEVENT
BEGIN:VEVENT
DTSTART;VALUE=DATE:20230603
DTEND;VALUE=DATE:20230605
DTSTAMP:20260422T202151
CREATED:20230603T120055Z
LAST-MODIFIED:20230603T120131Z
UID:192-1685757600-1685843999@schuetzenverein-heppenheim.de
SUMMARY:Arbeitseinsatz
DESCRIPTION:
URL:https://schuetzenverein-heppenheim.de/event/arbeitseinsatz/
END:VEVENT
END:VCALENDAR